BEGIN:VCALENDAR
VERSION:2.0
PRODID:-//La Familia de Jesucristo - ECPv6.15.20//NONSGML v1.0//EN
CALSCALE:GREGORIAN
METHOD:PUBLISH
X-ORIGINAL-URL:https://lafamiliadejesucristo.org
X-WR-CALDESC:Eventos para La Familia de Jesucristo
REFRESH-INTERVAL;VALUE=DURATION:PT1H
X-Robots-Tag:noindex
X-PUBLISHED-TTL:PT1H
BEGIN:VTIMEZONE
TZID:Europe/Madrid
BEGIN:DAYLIGHT
TZOFFSETFROM:+0100
TZOFFSETTO:+0200
TZNAME:CEST
DTSTART:20240331T010000
END:DAYLIGHT
BEGIN:STANDARD
TZOFFSETFROM:+0200
TZOFFSETTO:+0100
TZNAME:CET
DTSTART:20241027T010000
END:STANDARD
BEGIN:DAYLIGHT
TZOFFSETFROM:+0100
TZOFFSETTO:+0200
TZNAME:CEST
DTSTART:20250330T010000
END:DAYLIGHT
BEGIN:STANDARD
TZOFFSETFROM:+0200
TZOFFSETTO:+0100
TZNAME:CET
DTSTART:20251026T010000
END:STANDARD
BEGIN:DAYLIGHT
TZOFFSETFROM:+0100
TZOFFSETTO:+0200
TZNAME:CEST
DTSTART:20260329T010000
END:DAYLIGHT
BEGIN:STANDARD
TZOFFSETFROM:+0200
TZOFFSETTO:+0100
TZNAME:CET
DTSTART:20261025T010000
END:STANDARD
END:VTIMEZONE
BEGIN:VEVENT
DTSTART;TZID=Europe/Madrid:20251021T200000
DTEND;TZID=Europe/Madrid:20251021T210000
DTSTAMP:20260419T193900
CREATED:20250318T011229Z
LAST-MODIFIED:20251015T220546Z
UID:362-1761076800-1761080400@lafamiliadejesucristo.org
SUMMARY:Curso online del libro de Hechos
DESCRIPTION:Curso intensivo de teología via Google Meet
URL:https://lafamiliadejesucristo.org/evento/curso-intensivo-de-teologia/
LOCATION:Virtual
CATEGORIES:Grupo pastoral
ATTACH;FMTTYPE=image/jpeg:https://lafamiliadejesucristo.org/wp-content/uploads/2025/03/icono-grupoPastoral.jpg
END:VEVENT
BEGIN:VEVENT
DTSTART;TZID=Europe/Madrid:20251019T100000
DTEND;TZID=Europe/Madrid:20251019T120000
DTSTAMP:20260419T193900
CREATED:20250318T011558Z
LAST-MODIFIED:20251015T220645Z
UID:370-1760868000-1760875200@lafamiliadejesucristo.org
SUMMARY:Servicio de adoración dominical
DESCRIPTION:Servicio de adoración con Escuela Dominical\, seguido de servicio público.
URL:https://lafamiliadejesucristo.org/evento/servicio-de-adoracion-dominical/
LOCATION:Instalaciones de la iglesia\, Av- Ruiz Cortines 44 Col. Contla\, Tlatlauquitepec\, Puebla\, 7390\, Mexico
CATEGORIES:Servicios
ATTACH;FMTTYPE=image/png:https://lafamiliadejesucristo.org/wp-content/uploads/2025/03/logo-590.png
END:VEVENT
BEGIN:VEVENT
DTSTART;TZID=Europe/Madrid:20251018T170000
DTEND;TZID=Europe/Madrid:20251018T190000
DTSTAMP:20260419T193900
CREATED:20250313T063344Z
LAST-MODIFIED:20251015T220811Z
UID:187-1760806800-1760814000@lafamiliadejesucristo.org
SUMMARY:Servicio de jóvenes
DESCRIPTION:Acompañanos en nuestra reunión de jóvenes para aprender juntos sobre Dios. Al mismo tiempo que haces lazos y amistad con otros jóvenes.
URL:https://lafamiliadejesucristo.org/evento/servicio-de-jovenes/
LOCATION:Instalaciones de la iglesia\, Av- Ruiz Cortines 44 Col. Contla\, Tlatlauquitepec\, Puebla\, 7390\, Mexico
CATEGORIES:Grupo de jóvenes
ATTACH;FMTTYPE=image/png:https://lafamiliadejesucristo.org/wp-content/uploads/2025/03/logo-590.png
END:VEVENT
BEGIN:VEVENT
DTSTART;TZID=Europe/Madrid:20251016T180000
DTEND;TZID=Europe/Madrid:20251016T193000
DTSTAMP:20260419T193900
CREATED:20250313T062110Z
LAST-MODIFIED:20251015T220855Z
UID:180-1760637600-1760643000@lafamiliadejesucristo.org
SUMMARY:Servicio de adoración Jueves
DESCRIPTION:Servicio de adoración de los días jueves.
URL:https://lafamiliadejesucristo.org/evento/servicio-de-adoracion/
LOCATION:Instalaciones de la iglesia\, Av- Ruiz Cortines 44 Col. Contla\, Tlatlauquitepec\, Puebla\, 7390\, Mexico
CATEGORIES:Servicios
ATTACH;FMTTYPE=image/png:https://lafamiliadejesucristo.org/wp-content/uploads/2025/03/logo-590.png
END:VEVENT
BEGIN:VEVENT
DTSTART;TZID=Europe/Madrid:20251012T000000
DTEND;TZID=Europe/Madrid:20251019T235959
DTSTAMP:20260419T193900
CREATED:20250313T063854Z
LAST-MODIFIED:20251015T220941Z
UID:189-1760227200-1760918399@lafamiliadejesucristo.org
SUMMARY:Semana de aseo
DESCRIPTION:El aseo de las instalaciones\, le corresponde al equipo No. 3
URL:https://lafamiliadejesucristo.org/evento/semana-de-aseo/
LOCATION:Instalaciones de la iglesia\, Av- Ruiz Cortines 44 Col. Contla\, Tlatlauquitepec\, Puebla\, 7390\, Mexico
CATEGORIES:Rol de aseo
ATTACH;FMTTYPE=image/jpeg:https://lafamiliadejesucristo.org/wp-content/uploads/2025/03/icono-rol-aseo.jpg
END:VEVENT
BEGIN:VEVENT
DTSTART;TZID=Europe/Madrid:20250906T190000
DTEND;TZID=Europe/Madrid:20250906T203000
DTSTAMP:20260419T193900
CREATED:20250324T000922Z
LAST-MODIFIED:20250903T203856Z
UID:414-1757185200-1757190600@lafamiliadejesucristo.org
SUMMARY:Visita al hospital
DESCRIPTION:Visita al hospital de Tlatlauquitepec. \nLlevar Biblia.
URL:https://lafamiliadejesucristo.org/evento/visita-al-hospital/
LOCATION:Hospital General Tlatlauquitepec\, COMUNIDAD TOCHIMPA SECCION 6\, Tlatlauquitepec\, Puebla\, 73907\, Mexico
CATEGORIES:Evangelismo
ATTACH;FMTTYPE=image/png:https://lafamiliadejesucristo.org/wp-content/uploads/2025/03/logo-590.png
END:VEVENT
BEGIN:VEVENT
DTSTART;TZID=Europe/Madrid:20250628T000000
DTEND;TZID=Europe/Madrid:20250628T235959
DTSTAMP:20260419T193900
CREATED:20250612T003011Z
LAST-MODIFIED:20250612T003011Z
UID:653-1751068800-1751155199@lafamiliadejesucristo.org
SUMMARY:Bautizos
DESCRIPTION:La celebración de bautizos de hermanos creyentes de la iglesia.
URL:https://lafamiliadejesucristo.org/evento/bautizos/
LOCATION:Instalaciones de la iglesia\, Av- Ruiz Cortines 44 Col. Contla\, Tlatlauquitepec\, Puebla\, 7390\, Mexico
CATEGORIES:Grupo pastoral
ATTACH;FMTTYPE=image/png:https://lafamiliadejesucristo.org/wp-content/uploads/2025/03/logo-590.png
END:VEVENT
BEGIN:VEVENT
DTSTART;TZID=Europe/Madrid:20250614T180000
DTEND;TZID=Europe/Madrid:20250614T190000
DTSTAMP:20260419T193900
CREATED:20250612T002815Z
LAST-MODIFIED:20250612T002815Z
UID:651-1749924000-1749927600@lafamiliadejesucristo.org
SUMMARY:Curso para bautizos
DESCRIPTION:Curso para los hermanos que desean bautizarse.
URL:https://lafamiliadejesucristo.org/evento/curso-para-bautizos/
LOCATION:Instalaciones de la iglesia\, Av- Ruiz Cortines 44 Col. Contla\, Tlatlauquitepec\, Puebla\, 7390\, Mexico
CATEGORIES:Educación cristiana
ATTACH;FMTTYPE=image/png:https://lafamiliadejesucristo.org/wp-content/uploads/2025/03/logo-590.png
END:VEVENT
BEGIN:VEVENT
DTSTART;TZID=Europe/Madrid:20250613T183000
DTEND;TZID=Europe/Madrid:20250613T200000
DTSTAMP:20260419T193900
CREATED:20250318T011426Z
LAST-MODIFIED:20250612T002235Z
UID:367-1749839400-1749844800@lafamiliadejesucristo.org
SUMMARY:Clases de música
DESCRIPTION:Clases de música teorico – prácticos
URL:https://lafamiliadejesucristo.org/evento/clases-de-musica/
LOCATION:Instalaciones de la iglesia\, Av- Ruiz Cortines 44 Col. Contla\, Tlatlauquitepec\, Puebla\, 7390\, Mexico
CATEGORIES:Ministerio musical
ATTACH;FMTTYPE=image/jpeg:https://lafamiliadejesucristo.org/wp-content/uploads/2025/03/icono-musical.jpg
END:VEVENT
BEGIN:VEVENT
DTSTART;TZID=Europe/Madrid:20250330T100000
DTEND;TZID=Europe/Madrid:20250330T120000
DTSTAMP:20260419T193900
CREATED:20250324T001520Z
LAST-MODIFIED:20250324T001542Z
UID:419-1743328800-1743336000@lafamiliadejesucristo.org
SUMMARY:Cena del Señor
DESCRIPTION:Celebración de la Cena del Señor.
URL:https://lafamiliadejesucristo.org/evento/cena-del-senor/
LOCATION:Instalaciones de la iglesia\, Av- Ruiz Cortines 44 Col. Contla\, Tlatlauquitepec\, Puebla\, 7390\, Mexico
CATEGORIES:Servicios
ATTACH;FMTTYPE=image/png:https://lafamiliadejesucristo.org/wp-content/uploads/2025/03/logo-590.png
END:VEVENT
BEGIN:VEVENT
DTSTART;TZID=Europe/Madrid:20250321T170000
DTEND;TZID=Europe/Madrid:20250321T193000
DTSTAMP:20260419T193900
CREATED:20250318T035743Z
LAST-MODIFIED:20250318T035910Z
UID:374-1742576400-1742585400@lafamiliadejesucristo.org
SUMMARY:Taller para mamás
DESCRIPTION:Taller para mamás con hijos menores de 18 años. Tema «Identidad sexual»
URL:https://lafamiliadejesucristo.org/evento/taller-para-mamas/
LOCATION:Instalaciones de la iglesia\, Av- Ruiz Cortines 44 Col. Contla\, Tlatlauquitepec\, Puebla\, 7390\, Mexico
CATEGORIES:Educación cristiana
ATTACH;FMTTYPE=image/png:https://lafamiliadejesucristo.org/wp-content/uploads/2025/03/logo-590.png
END:VEVENT
END:VCALENDAR